BEGIN:VCALENDAR
VERSION:2.0
PRODID:-//Boone County Democrats - ECPv6.15.14//NONSGML v1.0//EN
CALSCALE:GREGORIAN
METHOD:PUBLISH
X-ORIGINAL-URL:https://boonecountydems.org
X-WR-CALDESC:Events for Boone County Democrats
REFRESH-INTERVAL;VALUE=DURATION:PT1H
X-Robots-Tag:noindex
X-PUBLISHED-TTL:PT1H
BEGIN:VTIMEZONE
TZID:UTC
BEGIN:STANDARD
TZOFFSETFROM:+0000
TZOFFSETTO:+0000
TZNAME:UTC
DTSTART:20200101T000000
END:STANDARD
END:VTIMEZONE
BEGIN:VTIMEZONE
TZID:UTC
BEGIN:STANDARD
TZOFFSETFROM:+0000
TZOFFSETTO:+0000
TZNAME:UTC
DTSTART:20190101T000000
END:STANDARD
END:VTIMEZONE
BEGIN:VEVENT
DTSTART;TZID=UTC:20220818T180000
DTEND;TZID=UTC:20220818T203000
DTSTAMP:20260424T134750
CREATED:20220804T211122Z
LAST-MODIFIED:20220804T220336Z
UID:631-1660845600-1660854600@boonecountydems.org
SUMMARY:Central Committee Reorganization 2022
DESCRIPTION:It’s that time of year again when we fill empty vacancies and elect a new executive board. \n\n\n\nRegistration and Open House will begin at 6pm\, Reorganization at 7pm. \n\n\n\nPlease come early if you would like to fill a vacancy. \n\n\n\nRequirements: Have lived at your address for 1 year. Have paid dues to Boone County Democrats. Be registered to vote. \n\n\n\nhttps://secure.actblue.com/donate/bcdp-membership \n\n\n\nThis is a public meeting.
URL:https://boonecountydems.org/event/central-committee-reorganization-2022/
LOCATION:Boone County Democatic Headquarters\, 409 Vandiver Dr\, Bldg 5\, Suite 104\, Columbia\, Missouri\, 65202
END:VEVENT
BEGIN:VEVENT
DTSTART;TZID=UTC:20220605T113000
DTEND;TZID=UTC:20220605T143000
DTSTAMP:20260424T134750
CREATED:20220514T181707Z
LAST-MODIFIED:20220524T014126Z
UID:548-1654428600-1654439400@boonecountydems.org
SUMMARY:2022 BBQ Picnic & Stump
DESCRIPTION:This year\, we have invited all candidates for 2022 to come give a stump speech about their campaigns! In addition\, we will be providing a candidate guide for every person appearing on the Democratic ballot for August 2nd.We are also inviting candidates to bring a dessert that will be auctioned off. Half of the proceeds will go to the party\, half will go to the candidate. Come support your favorite candidate and pick up a delicious dessert in the process!BBQ will be catered by Como Smoke & Fire with vegetarian options and kids’ options (under 10). \n\n\n\nConfirmed Speakers:Jewel Kelly Candidate for US SenateSpencer Toder Candidate for US SenateJon Karlen Candidate for Congressional District 3Representative David Tyson Smith MO House District 46Dave Raithel Candidate for MO House District 44Adrian Plank Candidate for MO House District 47Chimene Schwach Candidate for MO House District 47Douglas Mann Candidate for MO House District 50Bob Nolte Candidate for Boone County Recorder of DeedsNick Knoth Candidate for Boone County Recorder of DeedsShannon Martin Candidate for Boone County Recorder of DeedsJennifer Redel Candidate for Boone County TreasurerAngela Peterson Candidate for Associate Circuit Judge Division 10Kayla Jackson-Williams Candidate for Associate Circuit Judge Division 10Roger Johnson Candidate for Prosecuting Attorney\n\n\n\nTickets Available Here
URL:https://boonecountydems.org/event/2022-bbq-picnic-stump/
LOCATION:Cosmo-Bethel Park\, 4500 Bethel St.\, Columbia\, Missouri\, 65203
ATTACH;FMTTYPE=image/jpeg:https://boonecountydems.org/wp-content/uploads/2022/05/BBQ-Picnic.jpg
END:VEVENT
BEGIN:VEVENT
DTSTART;TZID=UTC:20211209T183000
DTEND;TZID=UTC:20211209T200000
DTSTAMP:20260424T134750
CREATED:20211201T031423Z
LAST-MODIFIED:20211201T031437Z
UID:452-1639074600-1639080000@boonecountydems.org
SUMMARY:Party with the Party
DESCRIPTION:Join fellow Democrats to celebrate a successful year\, help raise the last $400 to meet our fundraising goal\, play some fun games and meet local candidates.RESERVE YOUR SPOT HERE: https://secure.actblue.com/donate/partywparty
URL:https://boonecountydems.org/event/party-with-the-party/
ATTACH;FMTTYPE=image/jpeg:https://boonecountydems.org/wp-content/uploads/2021/12/Winter.jpg
END:VEVENT
BEGIN:VEVENT
DTSTART;TZID=UTC:20211208T180000
DTEND;TZID=UTC:20211208T190000
DTSTAMP:20260424T134750
CREATED:20211201T032647Z
LAST-MODIFIED:20211201T032655Z
UID:458-1638986400-1638990000@boonecountydems.org
SUMMARY:MDP Candidate Training/ Resource Overview
DESCRIPTION:You are invited to a Zoom webinar. When: Dec 8\, 2021 06:00 PM Central Time (US and Canada) Topic: MDP Candidate Training/ Resource Overview Register in advance for this webinar: https://us02web.zoom.us/webinar/register/WN_QUeb6LMnQxOex36OiWAHWg
URL:https://boonecountydems.org/event/mdp-candidate-training-resource-overview/
END:VEVENT
BEGIN:VEVENT
DTSTART;TZID=UTC:20211201T183000
DTEND;TZID=UTC:20211201T193000
DTSTAMP:20260424T134750
CREATED:20211201T032152Z
LAST-MODIFIED:20211201T032211Z
UID:455-1638383400-1638387000@boonecountydems.org
SUMMARY:Candidate Recruitment
DESCRIPTION:Are you interested in being a candidate for office in 2022? The Boone County Democratic Party is working to recruit and assist candidates for our Central Committee\, non-partisan office\, school boards\, County offices\, and Missouri House Districts for this next cycle. Join us for a meet and greet with the Boone County Democrats Executive Committee and learn how we can help you in 2022!
URL:https://boonecountydems.org/event/candidate-recruitment/
ATTACH;FMTTYPE=image/jpeg:https://boonecountydems.org/wp-content/uploads/2021/12/Generic.jpg
END:VEVENT
BEGIN:VEVENT
DTSTART;TZID=UTC:20200611T190000
DTEND;TZID=UTC:20200611T203000
DTSTAMP:20260424T134750
CREATED:20200610T062919Z
LAST-MODIFIED:20200610T180649Z
UID:166-1591902000-1591907400@boonecountydems.org
SUMMARY:June Central Committee Meeting
DESCRIPTION:The June meeting of the Boone County Democratic Central Committee will be held virtually. Please contact boonecountydemocrats@gmail.com to receive the link and password.
URL:https://boonecountydems.org/event/june-central-committee-meeting/
LOCATION:Zoom (Virtual Meeting)
END:VEVENT
END:VCALENDAR