BEGIN:VCALENDAR
VERSION:2.0
PRODID:-//Boone County Democrats - ECPv6.15.14//NONSGML v1.0//EN
CALSCALE:GREGORIAN
METHOD:PUBLISH
X-WR-CALNAME:Boone County Democrats
X-ORIGINAL-URL:https://boonecountydems.org
X-WR-CALDESC:Events for Boone County Democrats
REFRESH-INTERVAL;VALUE=DURATION:PT1H
X-Robots-Tag:noindex
X-PUBLISHED-TTL:PT1H
BEGIN:VTIMEZONE
TZID:UTC
BEGIN:STANDARD
TZOFFSETFROM:+0000
TZOFFSETTO:+0000
TZNAME:UTC
DTSTART:20200101T000000
END:STANDARD
END:VTIMEZONE
BEGIN:VTIMEZONE
TZID:UTC
BEGIN:STANDARD
TZOFFSETFROM:+0000
TZOFFSETTO:+0000
TZNAME:UTC
DTSTART:20190101T000000
END:STANDARD
END:VTIMEZONE
BEGIN:VEVENT
DTSTART;TZID=UTC:20260406T180000
DTEND;TZID=UTC:20260406T200000
DTSTAMP:20260424T120533
CREATED:20260304T223108Z
LAST-MODIFIED:20260304T225444Z
UID:1192-1775498400-1775505600@boonecountydems.org
SUMMARY:Empty  Chair Townhall #2- Healthcare
DESCRIPTION:There is no registration required. Email your story if you would like to share. \n\n\n\nLink to Facebook event: https://www.facebook.com/share/15twa4zyBa/
URL:https://boonecountydems.org/event/empty-chair-townhall-2-healthcare/
LOCATION:Columbia Senior Center\, 1121 Business Loop 70E\, Columbia\, Missouri\, 65201\, United States
END:VEVENT
BEGIN:VEVENT
DTSTART;TZID=UTC:20260328T120000
DTEND;TZID=UTC:20260328T133000
DTSTAMP:20260424T120533
CREATED:20260305T200918Z
LAST-MODIFIED:20260305T200922Z
UID:1205-1774699200-1774704600@boonecountydems.org
SUMMARY:No Kings Day
DESCRIPTION:Check out the event of our Facebook feed: https://www.facebook.com/share/1AY4S7ERKU/ \n\n\n\nWhen our families are under attack and costs are pushing people to the brink\, silence is not an option. We will defend ourselves and our communities against this administration’s unjust and cruel acts of violence. \n\n\n\nOn March 28th\, rise up\, take to the streets\, and say it loud: no thrones\, no crowns\, no kings. We’re not watching history happen—we’re making it. Join us. \n\n\n\nFull details: https://we-stand-united.org/events \n\n\n\nWe Stand United is committed to fostering a peaceful and inclusive atmosphere at our rallies. We ask all attendees to engage with respect and kindness\, ensuring this event remains welcoming for everyone. To uphold these values\, we kindly remind participants to refrain from using hate speech\, profanity\, or any language that could compromise the spirit of unity and positivity. Together\, we can create an environment that reflects the shared goals of understanding\, cooperation\, and community.
URL:https://boonecountydems.org/event/no-kings-day/
LOCATION:Missouri State Capital\, 201 W Capitol Av\, Jefferson City\, Missouri\, 65101\, United States
END:VEVENT
BEGIN:VEVENT
DTSTART;TZID=UTC:20260228T123000
DTEND;TZID=UTC:20260228T140000
DTSTAMP:20260424T120533
CREATED:20260120T221811Z
LAST-MODIFIED:20260120T221828Z
UID:1183-1772281800-1772287200@boonecountydems.org
SUMMARY:Love Wins : LGBTQIA+ Legislative Meet & Greet
DESCRIPTION:
URL:https://boonecountydems.org/event/love-wins-lgbtqia-legislative-meet-greet/
LOCATION:Boone County Library\, Friends Room\, 100 W Broadway\, Columbia\, Missouri\, 65202\, United States
ATTACH;FMTTYPE=image/png:https://boonecountydems.org/wp-content/uploads/2026/01/Screenshot-2026-01-20-at-4.17.49-PM.png
END:VEVENT
BEGIN:VEVENT
DTSTART;TZID=UTC:20260220T173000
DTEND;TZID=UTC:20260220T200000
DTSTAMP:20260424T120533
CREATED:20250208T175850Z
LAST-MODIFIED:20260123T213616Z
UID:995-1771608600-1771617600@boonecountydems.org
SUMMARY:2026 Annual Chili Supper
DESCRIPTION:Mark your calendar for our Chili Supper Fundraiser! \n\n\n\nPurchase tickets at : https://secure.actblue.com/donate/bcdpchili26?refcode=webnav
URL:https://boonecountydems.org/event/2025-annual-chili-supper-2/
LOCATION:Missouri
CATEGORIES:Fundraiser
END:VEVENT
BEGIN:VEVENT
DTSTART;TZID=UTC:20251012T113000
DTEND;TZID=UTC:20251012T150000
DTSTAMP:20260424T120533
CREATED:20251001T171035Z
LAST-MODIFIED:20251003T143711Z
UID:1103-1760268600-1760281200@boonecountydems.org
SUMMARY:2025 Annual BBQ & Stump
DESCRIPTION:Registration begins 11:30am\, Food service starts Noon\, Stump Speeches start 1:00 pm \n\n\n\nWhere: Stephen’s Lake Park–Gordon Shelter (bring your comfy lawn chairs!)2001 E. BroadwayColumbia\, MO 65203Remember the delicious baked goods we had for the silent auction. These bakers are BACK!!! Also some nice silent auction items as well. Come early and scope the goodies out! \n\n\n\nThis is an annual event featuring our Elected Democrats\, speakers to be announced soon. \n\n\n\nTix: Adults – $25\, Students – $15\, Children – $5\, No Food – $12Buy your tickets in advance to select your food option: BBQ pork\, BBQ chicken\, or veggie. \n\n\n\n\nBuy Tickets
URL:https://boonecountydems.org/event/2025-annual-bbq-stump/
LOCATION:Missouri
ATTACH;FMTTYPE=image/png:https://boonecountydems.org/wp-content/uploads/2025/10/image.png
END:VEVENT
BEGIN:VEVENT
DTSTART;TZID=UTC:20250520T180000
DTEND;TZID=UTC:20250520T200000
DTSTAMP:20260424T120533
CREATED:20250416T180318Z
LAST-MODIFIED:20250601T235039Z
UID:1025-1747764000-1747771200@boonecountydems.org
SUMMARY:Empty Chair Townhall
DESCRIPTION:The MAGA playbook includes not only the effort to negatively impact your livelihood\, the services you rely on\, and the freedom that you may have taken for granted; it also wants to inflict maximum chaos and anxiety in order to cause a sense of hopelessness and suppress mass response. We are mounting a counter action! This town-hall gives you the chance to voice your concerns. Your Congressmen have been invited\, but are unlikely to show. We will share all your stories with them.
URL:https://boonecountydems.org/event/empty-chair-townhall/
LOCATION:Missouri
END:VEVENT
BEGIN:VEVENT
DTSTART;TZID=UTC:20240707T174500
DTEND;TZID=UTC:20240707T193000
DTSTAMP:20260424T120533
CREATED:20240624T210845Z
LAST-MODIFIED:20240624T210854Z
UID:888-1720374300-1720380600@boonecountydems.org
SUMMARY:Primary Stump Speeches
DESCRIPTION:Come join us at Cafe Berlin July 7 to hear from candidates who are in primary races and/or facing tight races this November.Doors open at 5:45 with speeches beginning at 6:15.Appetizers provided with a cash bar.All candidates admitted free. \n\n\n\nReservations are $10 a person or $15 for a couple.https://secure.actblue.com/donate/stump
URL:https://boonecountydems.org/event/primary-stump-speeches/
LOCATION:Missouri
ATTACH;FMTTYPE=image/png:https://boonecountydems.org/wp-content/uploads/2024/06/Screenshot-2024-06-24-at-4.08.04 PM.png
END:VEVENT
BEGIN:VEVENT
DTSTART;TZID=UTC:20240426T180000
DTEND;TZID=UTC:20240426T210000
DTSTAMP:20260424T120533
CREATED:20220811T195650Z
LAST-MODIFIED:20240416T210557Z
UID:636-1714154400-1714165200@boonecountydems.org
SUMMARY:FUNdraising Trivia Night
DESCRIPTION:Join Boone County Democrats for a FUNdraising Trivia Night April 26th!  \n\n\n\nDoors open 6 pm\, trivia begins 7 pm. Drink tickets provided. BYO Snacks. Reichmann Pavilion\, Stephen’s Lake Park\, 2300 E. Walnut\, Columbia\, MOIndividual tickets as well as group tables and sponsorships are available athttps://secure.actblue.com/donate/trivia24
URL:https://boonecountydems.org/event/2022trivia/
LOCATION:Reichmann Pavilion at Stephen’s Lake Park\, 2300 E. Walnut\, Columbia\, 65201
CATEGORIES:Fundraiser
ATTACH;FMTTYPE=image/png:https://boonecountydems.org/wp-content/uploads/2024/04/white-sponsors-2.png
END:VEVENT
BEGIN:VEVENT
DTSTART;TZID=UTC:20240424T080000
DTEND;TZID=UTC:20240424T170000
DTSTAMP:20260424T120533
CREATED:20240424T131104Z
LAST-MODIFIED:20240424T131107Z
UID:878-1713945600-1713978000@boonecountydems.org
SUMMARY:Courtroom Kettle Korn
DESCRIPTION:The trials have begun. You know Hillary will be watching! Get your Courtroom Kettle Korn and you too can munch away as we watch juror selection\, Don the sleeposaurus\, count the times the judge silences him\, and prepare for Stormy’s testimony. This is just the first trial of many. Let’s use it to make money for the local Democrats! YOU MIGHT NEED TWO BAGS! Courtroom Kettle Korn will be available May 18.Order here: secure.actblue.com/donate/courtroom
URL:https://boonecountydems.org/event/courtroom-kettle-korn/
LOCATION:Missouri
END:VEVENT
BEGIN:VEVENT
DTSTART;TZID=UTC:20231205T080000
DTEND;TZID=UTC:20231205T170000
DTSTAMP:20260424T120533
CREATED:20231127T164238Z
LAST-MODIFIED:20231127T164355Z
UID:797-1701763200-1701795600@boonecountydems.org
SUMMARY:Holiday Cookie Fundraiser
DESCRIPTION:December 5-15\, 2023 \n\n\n\n\n\n\n\n\n\nWant FRESH homemade Holiday cookies but just do not have the time? Order a dozen cookies for your family and/or friends and add some treats for your favorite puppy as well. All in support of the Boone County Democratic Party! \n\n\n\nFor a $24 donation\, you’ll receive Double Chocolate Peppermint\, or Sugar or Gluten free Peanut Butter in a gift bag/box from Bee’z Bakeshop. Add $5 and receive 2 Honey Bear treats for your puppy from Lizzie & Rocco’s. Last day to order December 15. \n\n\n\nPICK UP YOUR TREATS DECEMBER 22nd BETWEEN 10-4 AT DEMOCRATIC HEADQUARTERS 409 VANDIVER\, BUILDING 5 SUITE 104 COLUMBIA\, MO. \n\n\n\nWe will deliver your treats for an additional fee of $4. Deliveries will be made December 22nd between 10-4. Delivery is available only within Columbia\, Missouri. Orders outside of Columbia\, Missouri must be picked up at Democratic Headquarters either December 22nd or 23rd.
URL:https://boonecountydems.org/event/holiday-cookie-fundraiser/
LOCATION:Missouri
END:VEVENT
BEGIN:VEVENT
DTSTART;TZID=UTC:20230611T113000
DTEND;TZID=UTC:20230611T113000
DTSTAMP:20260424T120533
CREATED:20230515T001127Z
LAST-MODIFIED:20240423T213529Z
UID:751-1686483000-1686483000@boonecountydems.org
SUMMARY:2024 Annual Picnic and Stump Speeches
DESCRIPTION:This candidate-focused event features our proud Democrats holding or running for office in 2024. Your first chance to get to know them better. \n\n\n\nRegistration begins at 11:30am\, Food service starts at 12:30\, Stump Speeches starts at 1:00 pm \n\n\n\nWhere: Twin Lakes Recreation Shelter House (bring your comfy lawn chairs!) \n\n\n\n2500 Chapel Hill Road\, Columbia\, MO 65203 \n\n\n\n\nTicket Link\n\n\n\n\nA Few of Our Anticipated Speakers:Candidates for US SenateLucas Kunce\, December HarmonCandidate for MO Attorney General Elad GrossCandidate for MO SenateStephen WebberUS House CandidatesBethany Mann and Jon KarlenMO House RepresentativesDavid Tyson Smith (46)\,Kathy Steinhoff (45)\,Adrian Plank (47)\,Douglas Mann (50)Candidate MO House District 44David RaithelBoone County CommissionersKip Kendrick\, Justin Aldred\,Janet ThompsonBoone County ElectedsBrianna Lennon\, County ClerkBob Nolte\, Recorder of DeedsJennifer Redel\, County TreasurerRoger Johnson\, County Prosecuting Attorney \n\n\n\nYour ticket gets you delicious food prepared by Como Smoke and Fire and supports our Democratic efforts here in Boone County! \n\n\n\nThank you to our Annual Picnic Platinum Sponsor:
URL:https://boonecountydems.org/event/2023-annual-picnic-and-stump-speeches/
LOCATION:Missouri
END:VEVENT
BEGIN:VEVENT
DTSTART;TZID=UTC:20230523T183000
DTEND;TZID=UTC:20230523T203000
DTSTAMP:20260424T120533
CREATED:20230515T000630Z
LAST-MODIFIED:20230515T000634Z
UID:748-1684866600-1684873800@boonecountydems.org
SUMMARY:End of the Season Town Hall
DESCRIPTION:
URL:https://boonecountydems.org/event/end-of-the-season-town-hall/
LOCATION:Missouri
END:VEVENT
BEGIN:VEVENT
DTSTART;TZID=UTC:20220818T180000
DTEND;TZID=UTC:20220818T203000
DTSTAMP:20260424T120533
CREATED:20220804T211122Z
LAST-MODIFIED:20220804T220336Z
UID:631-1660845600-1660854600@boonecountydems.org
SUMMARY:Central Committee Reorganization 2022
DESCRIPTION:It’s that time of year again when we fill empty vacancies and elect a new executive board. \n\n\n\nRegistration and Open House will begin at 6pm\, Reorganization at 7pm. \n\n\n\nPlease come early if you would like to fill a vacancy. \n\n\n\nRequirements: Have lived at your address for 1 year. Have paid dues to Boone County Democrats. Be registered to vote. \n\n\n\nhttps://secure.actblue.com/donate/bcdp-membership \n\n\n\nThis is a public meeting.
URL:https://boonecountydems.org/event/central-committee-reorganization-2022/
LOCATION:Boone County Democatic Headquarters\, 409 Vandiver Dr\, Bldg 5\, Suite 104\, Columbia\, Missouri\, 65202
END:VEVENT
BEGIN:VEVENT
DTSTART;TZID=UTC:20220605T113000
DTEND;TZID=UTC:20220605T143000
DTSTAMP:20260424T120533
CREATED:20220514T181707Z
LAST-MODIFIED:20220524T014126Z
UID:548-1654428600-1654439400@boonecountydems.org
SUMMARY:2022 BBQ Picnic & Stump
DESCRIPTION:This year\, we have invited all candidates for 2022 to come give a stump speech about their campaigns! In addition\, we will be providing a candidate guide for every person appearing on the Democratic ballot for August 2nd.We are also inviting candidates to bring a dessert that will be auctioned off. Half of the proceeds will go to the party\, half will go to the candidate. Come support your favorite candidate and pick up a delicious dessert in the process!BBQ will be catered by Como Smoke & Fire with vegetarian options and kids’ options (under 10). \n\n\n\nConfirmed Speakers:Jewel Kelly Candidate for US SenateSpencer Toder Candidate for US SenateJon Karlen Candidate for Congressional District 3Representative David Tyson Smith MO House District 46Dave Raithel Candidate for MO House District 44Adrian Plank Candidate for MO House District 47Chimene Schwach Candidate for MO House District 47Douglas Mann Candidate for MO House District 50Bob Nolte Candidate for Boone County Recorder of DeedsNick Knoth Candidate for Boone County Recorder of DeedsShannon Martin Candidate for Boone County Recorder of DeedsJennifer Redel Candidate for Boone County TreasurerAngela Peterson Candidate for Associate Circuit Judge Division 10Kayla Jackson-Williams Candidate for Associate Circuit Judge Division 10Roger Johnson Candidate for Prosecuting Attorney\n\n\n\nTickets Available Here
URL:https://boonecountydems.org/event/2022-bbq-picnic-stump/
LOCATION:Cosmo-Bethel Park\, 4500 Bethel St.\, Columbia\, Missouri\, 65203
ATTACH;FMTTYPE=image/jpeg:https://boonecountydems.org/wp-content/uploads/2022/05/BBQ-Picnic.jpg
END:VEVENT
BEGIN:VEVENT
DTSTART;TZID=UTC:20211209T183000
DTEND;TZID=UTC:20211209T200000
DTSTAMP:20260424T120533
CREATED:20211201T031423Z
LAST-MODIFIED:20211201T031437Z
UID:452-1639074600-1639080000@boonecountydems.org
SUMMARY:Party with the Party
DESCRIPTION:Join fellow Democrats to celebrate a successful year\, help raise the last $400 to meet our fundraising goal\, play some fun games and meet local candidates.RESERVE YOUR SPOT HERE: https://secure.actblue.com/donate/partywparty
URL:https://boonecountydems.org/event/party-with-the-party/
LOCATION:Missouri
ATTACH;FMTTYPE=image/jpeg:https://boonecountydems.org/wp-content/uploads/2021/12/Winter.jpg
END:VEVENT
BEGIN:VEVENT
DTSTART;TZID=UTC:20211208T180000
DTEND;TZID=UTC:20211208T190000
DTSTAMP:20260424T120533
CREATED:20211201T032647Z
LAST-MODIFIED:20211201T032655Z
UID:458-1638986400-1638990000@boonecountydems.org
SUMMARY:MDP Candidate Training/ Resource Overview
DESCRIPTION:You are invited to a Zoom webinar. When: Dec 8\, 2021 06:00 PM Central Time (US and Canada) Topic: MDP Candidate Training/ Resource Overview Register in advance for this webinar: https://us02web.zoom.us/webinar/register/WN_QUeb6LMnQxOex36OiWAHWg
URL:https://boonecountydems.org/event/mdp-candidate-training-resource-overview/
LOCATION:Missouri
END:VEVENT
BEGIN:VEVENT
DTSTART;TZID=UTC:20211201T183000
DTEND;TZID=UTC:20211201T193000
DTSTAMP:20260424T120533
CREATED:20211201T032152Z
LAST-MODIFIED:20211201T032211Z
UID:455-1638383400-1638387000@boonecountydems.org
SUMMARY:Candidate Recruitment
DESCRIPTION:Are you interested in being a candidate for office in 2022? The Boone County Democratic Party is working to recruit and assist candidates for our Central Committee\, non-partisan office\, school boards\, County offices\, and Missouri House Districts for this next cycle. Join us for a meet and greet with the Boone County Democrats Executive Committee and learn how we can help you in 2022!
URL:https://boonecountydems.org/event/candidate-recruitment/
LOCATION:Missouri
ATTACH;FMTTYPE=image/jpeg:https://boonecountydems.org/wp-content/uploads/2021/12/Generic.jpg
END:VEVENT
BEGIN:VEVENT
DTSTART;TZID=UTC:20200611T190000
DTEND;TZID=UTC:20200611T203000
DTSTAMP:20260424T120533
CREATED:20200610T062919Z
LAST-MODIFIED:20200610T180649Z
UID:166-1591902000-1591907400@boonecountydems.org
SUMMARY:June Central Committee Meeting
DESCRIPTION:The June meeting of the Boone County Democratic Central Committee will be held virtually. Please contact boonecountydemocrats@gmail.com to receive the link and password.
URL:https://boonecountydems.org/event/june-central-committee-meeting/
LOCATION:Zoom (Virtual Meeting)
END:VEVENT
END:VCALENDAR